BEGIN:VCALENDAR
VERSION:2.0
PRODID:-//Tukios.com/
BEGIN:VEVENT
UID:dc6d4104-4a7f-4f7c-bd40-c435d7187564@www.harpermorrismemorialchapel.com
DTSTAMP:20260425T020022Z
DTSTART:20260501T173000Z
DTEND:20260501T180000Z
SUMMARY:Visitation
DESCRIPTION:
URL:https://www.harpermorrismemorialchapel.com/obituaries/alana-shaw
LOCATION:Harper-Morris Memorial Chapel 2276 Airport Blvd  Pensacola FL 
	32504
GEO:30.475503;-87.1996939
END:VEVENT
END:VCALENDAR