BEGIN:VCALENDAR
VERSION:2.0
PRODID:-//Tukios.com/
BEGIN:VEVENT
UID:e57fc04d-601d-45f9-87a4-dae0f2bc4e30@www.harpermorrismemorialchapel.com
DTSTAMP:20260425T015314Z
DTSTART:20260501T180000Z
DTEND:20260501T190000Z
SUMMARY:Memorial Service
DESCRIPTION:
URL:https://www.harpermorrismemorialchapel.com/obituaries/alana-shaw
LOCATION:Harper-Morris Memorial Chapel 2276 Airport Blvd  Pensacola FL 
	32504
GEO:30.475503;-87.1996939
END:VEVENT
END:VCALENDAR