BEGIN:VCALENDAR
VERSION:2.0
PRODID:-//Tukios.com/
BEGIN:VEVENT
UID:6075e7f5-8bb6-4450-a7d8-42b541307719@www.harpermorrismemorialchapel.com
DTSTAMP:20260424T014758Z
DTSTART:20260427T143000Z
DTEND:20260427T150000Z
SUMMARY:Visitation
DESCRIPTION:
URL:https://www.harpermorrismemorialchapel.com/obituaries/bert-bruner
LOCATION: 2276 Airport Blvd  Pensacola FL 32504
GEO:30.475503;-87.1996939
END:VEVENT
END:VCALENDAR