BEGIN:VCALENDAR
VERSION:2.0
PRODID:-//Tukios.com/
BEGIN:VEVENT
UID:c15e4138-d26d-4a1c-baf9-e4eded0d84ad@www.harpermorrismemorialchapel.com
DTSTAMP:20260424T015132Z
DTSTART:20260427T150000Z
DTEND:20260427T160000Z
SUMMARY:Funeral Service
DESCRIPTION:
URL:https://www.harpermorrismemorialchapel.com/obituaries/bert-bruner
LOCATION: 2276 Airport Blvd  Pensacola FL 32504
GEO:30.475503;-87.1996939
END:VEVENT
END:VCALENDAR