BEGIN:VCALENDAR
VERSION:2.0
PRODID:-//Tukios.com/
BEGIN:VEVENT
UID:3eee1ac5-b188-4b1a-acf4-c9c2651faaae@www.harpermorrismemorialchapel.com
DTSTAMP:20260423T215103Z
DTSTART:20260430T163000Z
DTEND:20260430T173000Z
SUMMARY:Funeral Service
DESCRIPTION:
URL:https://www.harpermorrismemorialchapel.com/obituaries/buford-creel
LOCATION: 2276 Airport Blvd  Pensacola FL 32504
GEO:30.475503;-87.1996939
END:VEVENT
END:VCALENDAR