BEGIN:VCALENDAR
VERSION:2.0
PRODID:-//Tukios.com/
BEGIN:VEVENT
UID:2d327fe0-1c7a-4bab-8f0c-758ed060d233@www.harpermorrismemorialchapel.com
DTSTAMP:20260423T214706Z
DTSTART:20260430T180000Z
DTEND:20260430T190000Z
SUMMARY:Graveside Service
DESCRIPTION:
URL:https://www.harpermorrismemorialchapel.com/obituaries/buford-creel
LOCATION: 1 Cemetery Rd  Pensacola FL 32508-1054
GEO:30.3525781;-87.285437
END:VEVENT
END:VCALENDAR