BEGIN:VCALENDAR
VERSION:2.0
PRODID:-//Tukios.com/
BEGIN:VEVENT
UID:74304e16-5de8-496f-a623-980212472f12@www.harpermorrismemorialchapel.com
DTSTAMP:20260425T220218Z
DTSTART:20260429T143000Z
DTEND:20260429T160000Z
SUMMARY:Visitation
DESCRIPTION:
URL:https://www.harpermorrismemorialchapel.com/obituaries/gage-ventry
LOCATION:Cathedral of the Sacred Heart 1212 East Moreno Street  Pensacola 
	FL 32503
GEO:30.4319307;-87.2040262
END:VEVENT
END:VCALENDAR