BEGIN:VCALENDAR
VERSION:2.0
PRODID:-//Tukios.com/
BEGIN:VEVENT
UID:91a056af-1705-4ca5-a66c-088ecebdf330@www.harpermorrismemorialchapel.com
DTSTAMP:20260425T215805Z
DTSTART:20260429T160000Z
DTEND:20260429T170000Z
SUMMARY:Mass
DESCRIPTION:
URL:https://www.harpermorrismemorialchapel.com/obituaries/gage-ventry
LOCATION:Cathedral of the Sacred Heart 1212 East Moreno Street  Pensacola 
	FL 32503
GEO:30.4319307;-87.2040262
END:VEVENT
END:VCALENDAR