BEGIN:VCALENDAR
VERSION:2.0
PRODID:-//Tukios.com/
BEGIN:VEVENT
UID:ae46d177-6930-4f04-b34c-51dfe4a2f00a@www.harpermorrismemorialchapel.com
DTSTAMP:20260422T012810Z
DTSTART:20260513T163000Z
DTEND:20260513T173000Z
SUMMARY:Graveside Service
DESCRIPTION:
URL:https://www.harpermorrismemorialchapel.com/obituaries/james-thompson
LOCATION:Barrancas National Cemetery 1 Cemetery Rd  Pensacola FL 
	32508-1054
GEO:30.3525781;-87.285437
END:VEVENT
END:VCALENDAR