BEGIN:VCALENDAR
VERSION:2.0
PRODID:-//Tukios.com/
BEGIN:VEVENT
UID:7d9c7595-bc6a-4a36-b343-d487c4732259@www.harpermorrismemorialchapel.com
DTSTAMP:20260422T041806Z
DTSTART:20260529T170000Z
DTEND:20260529T180000Z
SUMMARY:Memorial Mass
DESCRIPTION:
URL:https://www.harpermorrismemorialchapel.com/obituaries/joan-fox
LOCATION:St. Paul Catholic Church 3131 Hyde Park Road  Pensacola FL 32503
GEO:30.4392672;-87.1789145
END:VEVENT
END:VCALENDAR