BEGIN:VCALENDAR
VERSION:2.0
PRODID:-//Tukios.com/
BEGIN:VEVENT
UID:81aec4bf-5882-466d-839d-fd2b7af8290d@www.harpermorrismemorialchapel.com
DTSTAMP:20260422T042150Z
DTSTART:20260529T193000Z
DTEND:20260529T203000Z
SUMMARY:Committal Service
DESCRIPTION:
URL:https://www.harpermorrismemorialchapel.com/obituaries/joan-fox
LOCATION:Barrancas National Cemetery 1 Cemetery Rd  Pensacola FL 
	32508-1054
GEO:30.3525781;-87.285437
END:VEVENT
END:VCALENDAR