BEGIN:VCALENDAR
VERSION:2.0
PRODID:-//Tukios.com/
BEGIN:VEVENT
UID:cd6f413c-f777-4a94-ab76-a2b5e05f0ca0@www.harpermorrismemorialchapel.com
DTSTAMP:20260424T175428Z
DTSTART:20260426T190000Z
DTEND:20260426T210000Z
SUMMARY:Visitation
DESCRIPTION:
URL:https://www.harpermorrismemorialchapel.com/obituaries/kenneth-sandiford
LOCATION:Northside Chapel 12050 Crabapple Road  Roswell GA 30075
GEO:34.0744671;-84.3617349
END:VEVENT
END:VCALENDAR