BEGIN:VCALENDAR
VERSION:2.0
PRODID:-//Tukios.com/
BEGIN:VEVENT
UID:75040567-8002-435a-8a7b-8d7a2fac14d4@www.harpermorrismemorialchapel.com
DTSTAMP:20260424T175730Z
DTSTART:20260502T180000Z
DTEND:20260502T190000Z
SUMMARY:Visitation
DESCRIPTION:
URL:https://www.harpermorrismemorialchapel.com/obituaries/kenneth-sandiford
LOCATION:Harper-Morris Memorial Chapel 2276 Airport Blvd  Pensacola FL 
	32504
GEO:30.475503;-87.1996939
END:VEVENT
END:VCALENDAR