BEGIN:VCALENDAR
VERSION:2.0
PRODID:-//Tukios.com/
BEGIN:VEVENT
UID:56eead94-16bb-4d33-9e61-a0ffecbfb046@www.harpermorrismemorialchapel.com
DTSTAMP:20260424T180124Z
DTSTART:20260502T190000Z
DTEND:20260502T200000Z
SUMMARY:Funeral Service
DESCRIPTION:
URL:https://www.harpermorrismemorialchapel.com/obituaries/kenneth-sandiford
LOCATION:Harper-Morris Memorial Chapel 2276 Airport Blvd  Pensacola FL 
	32504
GEO:30.475503;-87.1996939
END:VEVENT
END:VCALENDAR