BEGIN:VCALENDAR
VERSION:2.0
PRODID:-//Tukios.com/
BEGIN:VEVENT
UID:cafbd61c-9607-49ba-bfca-92fbb6ea0fca@www.harpermorrismemorialchapel.com
DTSTAMP:20260424T192641Z
DTSTART:20260504T190000Z
DTEND:20260504T200000Z
SUMMARY:Celebration of Life
DESCRIPTION:
URL:https://www.harpermorrismemorialchapel.com/obituaries/w-leininger
LOCATION:Gulf Breeze United Methodist Church 75 Fairpoint Dr  Gulf Breeze 
	FL 32561
GEO:30.363639;-87.1730603
END:VEVENT
END:VCALENDAR