BEGIN:VCALENDAR
VERSION:2.0
PRODID:-//Tukios.com/
BEGIN:VEVENT
UID:e46becc2-42d3-437c-9182-a68da0f9c644@www.harpermorrismemorialchapel.com
DTSTAMP:20260422T230923Z
DTSTART:20260426T183000Z
DTEND:20260426T190000Z
SUMMARY:Visitation
DESCRIPTION:
URL:https://www.harpermorrismemorialchapel.com/obituaries/william-bill-crawford-jr
LOCATION:Cokesbury Church 5725 N 9th Ave  Pensacola FL 32504
GEO:30.4820686;-87.2050187
END:VEVENT
END:VCALENDAR