BEGIN:VCALENDAR
VERSION:2.0
PRODID:-//Tukios.com/
BEGIN:VEVENT
UID:3b838a46-9469-48e8-a223-e5260f247fd7@www.harpermorrismemorialchapel.com
DTSTAMP:20260422T231605Z
DTSTART:20260426T190000Z
DTEND:20260426T200000Z
SUMMARY:Funeral Service
DESCRIPTION:
URL:https://www.harpermorrismemorialchapel.com/obituaries/william-bill-crawford-jr
LOCATION:Cokesbury Church 5725 N 9th Ave  Pensacola FL 32504
GEO:30.4820686;-87.2050187
END:VEVENT
END:VCALENDAR