BEGIN:VCALENDAR
VERSION:2.0
PRODID:-//Tukios.com/
BEGIN:VEVENT
UID:64ee6606-08a5-48dd-9af1-c2e94aef1a85@www.harpermorrismemorialchapel.com
DTSTAMP:20260420T173924Z
DTSTART:20260522T180000Z
DTEND:20260522T190000Z
SUMMARY:Graveside Service
DESCRIPTION:
URL:https://www.harpermorrismemorialchapel.com/obituaries/william-bill-singleton
LOCATION: 1 Cemetery Rd  Pensacola FL 32508-1054
GEO:30.3525781;-87.285437
END:VEVENT
END:VCALENDAR